BEGIN:VCALENDAR
VERSION:2.0
PRODID:-//Vista GeoScience - ECPv6.15.20//NONSGML v1.0//EN
CALSCALE:GREGORIAN
METHOD:PUBLISH
X-ORIGINAL-URL:https://vistageoscience.com
X-WR-CALDESC:Events for Vista GeoScience
REFRESH-INTERVAL;VALUE=DURATION:PT1H
X-Robots-Tag:noindex
X-PUBLISHED-TTL:PT1H
BEGIN:VTIMEZONE
TZID:America/New_York
BEGIN:DAYLIGHT
TZOFFSETFROM:-0500
TZOFFSETTO:-0400
TZNAME:EDT
DTSTART:20250309T070000
END:DAYLIGHT
BEGIN:STANDARD
TZOFFSETFROM:-0400
TZOFFSETTO:-0500
TZNAME:EST
DTSTART:20251102T060000
END:STANDARD
BEGIN:DAYLIGHT
TZOFFSETFROM:-0500
TZOFFSETTO:-0400
TZNAME:EDT
DTSTART:20260308T070000
END:DAYLIGHT
BEGIN:STANDARD
TZOFFSETFROM:-0400
TZOFFSETTO:-0500
TZNAME:EST
DTSTART:20261101T060000
END:STANDARD
BEGIN:DAYLIGHT
TZOFFSETFROM:-0500
TZOFFSETTO:-0400
TZNAME:EDT
DTSTART:20270314T070000
END:DAYLIGHT
BEGIN:STANDARD
TZOFFSETFROM:-0400
TZOFFSETTO:-0500
TZNAME:EST
DTSTART:20271107T060000
END:STANDARD
END:VTIMEZONE
BEGIN:VTIMEZONE
TZID:America/Denver
BEGIN:DAYLIGHT
TZOFFSETFROM:-0700
TZOFFSETTO:-0600
TZNAME:MDT
DTSTART:20250309T090000
END:DAYLIGHT
BEGIN:STANDARD
TZOFFSETFROM:-0600
TZOFFSETTO:-0700
TZNAME:MST
DTSTART:20251102T080000
END:STANDARD
BEGIN:DAYLIGHT
TZOFFSETFROM:-0700
TZOFFSETTO:-0600
TZNAME:MDT
DTSTART:20260308T090000
END:DAYLIGHT
BEGIN:STANDARD
TZOFFSETFROM:-0600
TZOFFSETTO:-0700
TZNAME:MST
DTSTART:20261101T080000
END:STANDARD
BEGIN:DAYLIGHT
TZOFFSETFROM:-0700
TZOFFSETTO:-0600
TZNAME:MDT
DTSTART:20270314T090000
END:DAYLIGHT
BEGIN:STANDARD
TZOFFSETFROM:-0600
TZOFFSETTO:-0700
TZNAME:MST
DTSTART:20271107T080000
END:STANDARD
END:VTIMEZONE
BEGIN:VEVENT
DTSTART;TZID=America/New_York:20260423T173000
DTEND;TZID=America/New_York:20260423T193000
DTSTAMP:20260423T110357
CREATED:20260406T143615Z
LAST-MODIFIED:20260406T143615Z
UID:5756-1776965400-1776972600@vistageoscience.com
SUMMARY:RMAEP Spring Networking Social
DESCRIPTION:We’re looking forward to connecting with industry peers at this upcoming RMAEP event. These gatherings provide valuable opportunities to discuss current projects\, emerging trends\, and solutions in the environmental space. \nJohn will be in attendance—feel free to connect with him during the event to learn more about our work. \nLEARN MORE
URL:https://vistageoscience.com/event/rmaep-spring-networking-social/
LOCATION:Crooked Stave Brewing Company\, 1411 W 46th Ave Unit 19\, Denver\, CO\, 80211\, United States
END:VEVENT
BEGIN:VEVENT
DTSTART;TZID=America/Denver:20260430T170000
DTEND;TZID=America/Denver:20260430T210000
DTSTAMP:20260423T110357
CREATED:20260210T185940Z
LAST-MODIFIED:20260227T151001Z
UID:5640-1777568400-1777582800@vistageoscience.com
SUMMARY:CEMS Movie Night\, Denver
DESCRIPTION:Movie Title & Speakers TBD \nRegistration and Sponsorship Opportunities Coming Soon!
URL:https://vistageoscience.com/event/cems-movie-night-denver/
LOCATION:Denver SIE Film Center\, 2510 E Colfax Ave.\, Denver\, CO\, 80206\, United States
ATTACH;FMTTYPE=image/jpeg:https://vistageoscience.com/wp-content/uploads/2026/02/2026_CEMS_Movie_Night_save_the_date.jpg
END:VEVENT
END:VCALENDAR