BEGIN:VCALENDAR
VERSION:2.0
PRODID:-//Vista GeoScience - ECPv6.15.20//NONSGML v1.0//EN
CALSCALE:GREGORIAN
METHOD:PUBLISH
X-ORIGINAL-URL:https://vistageoscience.com
X-WR-CALDESC:Events for Vista GeoScience
REFRESH-INTERVAL;VALUE=DURATION:PT1H
X-Robots-Tag:noindex
X-PUBLISHED-TTL:PT1H
BEGIN:VTIMEZONE
TZID:America/Denver
BEGIN:DAYLIGHT
TZOFFSETFROM:-0700
TZOFFSETTO:-0600
TZNAME:MDT
DTSTART:20250309T090000
END:DAYLIGHT
BEGIN:STANDARD
TZOFFSETFROM:-0600
TZOFFSETTO:-0700
TZNAME:MST
DTSTART:20251102T080000
END:STANDARD
BEGIN:DAYLIGHT
TZOFFSETFROM:-0700
TZOFFSETTO:-0600
TZNAME:MDT
DTSTART:20260308T090000
END:DAYLIGHT
BEGIN:STANDARD
TZOFFSETFROM:-0600
TZOFFSETTO:-0700
TZNAME:MST
DTSTART:20261101T080000
END:STANDARD
BEGIN:DAYLIGHT
TZOFFSETFROM:-0700
TZOFFSETTO:-0600
TZNAME:MDT
DTSTART:20270314T090000
END:DAYLIGHT
BEGIN:STANDARD
TZOFFSETFROM:-0600
TZOFFSETTO:-0700
TZNAME:MST
DTSTART:20271107T080000
END:STANDARD
END:VTIMEZONE
BEGIN:VTIMEZONE
TZID:America/Chicago
BEGIN:DAYLIGHT
TZOFFSETFROM:-0600
TZOFFSETTO:-0500
TZNAME:CDT
DTSTART:20250309T080000
END:DAYLIGHT
BEGIN:STANDARD
TZOFFSETFROM:-0500
TZOFFSETTO:-0600
TZNAME:CST
DTSTART:20251102T070000
END:STANDARD
BEGIN:DAYLIGHT
TZOFFSETFROM:-0600
TZOFFSETTO:-0500
TZNAME:CDT
DTSTART:20260308T080000
END:DAYLIGHT
BEGIN:STANDARD
TZOFFSETFROM:-0500
TZOFFSETTO:-0600
TZNAME:CST
DTSTART:20261101T070000
END:STANDARD
BEGIN:DAYLIGHT
TZOFFSETFROM:-0600
TZOFFSETTO:-0500
TZNAME:CDT
DTSTART:20270314T080000
END:DAYLIGHT
BEGIN:STANDARD
TZOFFSETFROM:-0500
TZOFFSETTO:-0600
TZNAME:CST
DTSTART:20271107T070000
END:STANDARD
END:VTIMEZONE
BEGIN:VEVENT
DTSTART;TZID=America/Denver:20260310T093000
DTEND;TZID=America/Denver:20260310T170000
DTSTAMP:20260423T121130
CREATED:20260206T180706Z
LAST-MODIFIED:20260303T162013Z
UID:5314-1773135000-1773162000@vistageoscience.com
SUMMARY:Enviro Workshops - Brownfields; Denver
DESCRIPTION:Keynote Speaker: Fonda Apostolopoulos\, P.E.\, Board Member and CDPHE Liaison\, Colorado Department of Public Health and Environment\nFonda will speak on the Colorado State Brownfield Program resources including: VCUP\, state tax credits\, phase I funding\, state monies\, and grants.\nEvent Host: John Fontana -President/CEO\, Vista GeoScience\nThe Optimization and Implementation of In-Situ Remediation Injection Projects \nPage Cotton –National Production Manager\, Stego Industries\nBelow-Slab Protection Methodologies \nNathan Coughenour – Professional Engineer\, Geo-Solutions\nImproving Coal Ash Impoundments via Slurry Trenching and Soil Mixing \nRobert Ford – Business Development Manager\, Aeroqual\nNear-Reference Air Monitoring for Benzene\, Methane\, and More \nKevin Moore – National Sales Director and Bioremediation Expert\, ETEC\nAdvanced Bioremediation and Groundwater Recirculation \nLance Robinson – CTO\, EN Rx\, Inc.\nUsing PFAS FREE Nested Horizontal Wells for Sampling and Flux measurements of PFAS \nTed Wittemann – Director of Commercial Operations/Sr. Account Manager\, Pine Environmental\nTechnologies for Oil & Gas Industry: Monitoring\, Sampling & Inspecting \n 
URL:https://vistageoscience.com/event/enviro-workshops-denver/
LOCATION:Holiday Inn Denver Lakewood\, 7390 W. Hampden Ave.\, Denver\, CO\, 80227
CATEGORIES:Enviro Workshops
ATTACH;FMTTYPE=image/png:https://vistageoscience.com/wp-content/uploads/2026/02/EnviroWorkshops.png
END:VEVENT
BEGIN:VEVENT
DTSTART;TZID=America/Denver:20260311T110000
DTEND;TZID=America/Denver:20260311T170000
DTSTAMP:20260423T121130
CREATED:20260210T175522Z
LAST-MODIFIED:20260303T172028Z
UID:5608-1773226800-1773248400@vistageoscience.com
SUMMARY:Enviro Workshops - Brownfields; Salt Lake City
DESCRIPTION:Keynote Speaker: Chris Howell\, P.G.\, Utah DEQ\nSPEAKING ON: The Utah DEQ Petroleum Brownfields Program\, Brownfield Eligibility\, Available Funding (LUST Trust Fund\, EPA Grants\, etc.)\, DERR Tools for Developers\, and Success Stories.  \nEvent Host: John Fontana – President/CEO\, Vista GeoScience\nThe Optimization and Implementation of In-Situ Remediation Injection Projects \nPage Cotton – National Production Manager\, Stego Industries\nBelow-Slab Protection Methodologies \nNathan Coughenour – Professional Engineer\, Geo-Solutions\nImproving Coal Ash Impoundments via Slurry Trenching and Soil Mixing \nKevin Moore – National Sales Director and Bioremediation Expert\, ETEC\nAdvanced Bioremediation and Groundwater Recirculation \nLance Robinson – CTO\, EN Rx\, Inc.\nUsing PFAS FREE Nested Horizontal Wells for Sampling and Flux measurements of PFAS \nTed Wittemann – Director of Commercial Operations/Sr. Account Manager\, Pine Environmental\nField Equipment for Brownfields Site Characterization and Remediation \n 
URL:https://vistageoscience.com/event/enviro-workshops-brownfields-in-salt-lake-city/
LOCATION:DoubleTree Suites Salt Lake City Downtown\, 110 West 600 South\, Salt Lake City\, UT\, 84101
CATEGORIES:Enviro Workshops
ATTACH;FMTTYPE=image/png:https://vistageoscience.com/wp-content/uploads/2026/02/EnviroWorkshops.png
END:VEVENT
BEGIN:VEVENT
DTSTART;TZID=America/Chicago:20260317T110000
DTEND;TZID=America/Chicago:20260317T170000
DTSTAMP:20260423T121130
CREATED:20260227T150740Z
LAST-MODIFIED:20260227T173916Z
UID:5683-1773745200-1773766800@vistageoscience.com
SUMMARY:2026 Milwaukee Remediation Tools Workshop
DESCRIPTION:Event Host: Travis Bowman\, Executive Director\nJohn Fontana President/CEO – Vista GeoScience\nAdvancements in Reagents & Tools for Implementing In-Situ Injections & Remediation Projects \nKent Armstrong President – TerraStryke\nBioremediation 4.0\, What is it and How Does it Combat the Effects of Climate Change on Remediation \nDuane Guilfoil President – AST Environmental\nAddressing Legacy and Emerging Contaminants In Situ Using Novel Injectates \nDaniel Pipp Environmental Chemist/Direct Image Specialist – Geoprobe Systems\nUsing HRSC Tools for Remedial Design Optimization and Improved Remedial Success \nJevins Waddell President & Co-Founder – Trium Environmental\nAI in the Oil Patch: Accelerating Remediation with Real-Time Field Intelligence \n 
URL:https://vistageoscience.com/event/2026-milwaukee-remediation-tools-workshop/
LOCATION:Sheraton Milwaukee Brookfield\, 375 S Moorland Rd\, Brookfield\, UT\, 53005
CATEGORIES:Enviro Workshops
ATTACH;FMTTYPE=image/png:https://vistageoscience.com/wp-content/uploads/2026/02/2026-Milwaukee-Remediation-Tools-Workshop.png
END:VEVENT
BEGIN:VEVENT
DTSTART;TZID=America/Chicago:20260319T110000
DTEND;TZID=America/Chicago:20260319T170000
DTSTAMP:20260423T121130
CREATED:20260227T161307Z
LAST-MODIFIED:20260227T173900Z
UID:5697-1773918000-1773939600@vistageoscience.com
SUMMARY:2026 Des Moines Remediation Tools Workshop
DESCRIPTION:Event Host: Travis Bowman\, Executive Director\nJohn Fontana – President/CEO\, Vista GeoScience\nAdvancements in Reagents & Tools for Implementing In-Situ Injections & Remediation Projects \nKent Armstrong – President\, TerraStryke\nBioremediation 4.0\, What is it and How Does it Combat the Effects of Climate Change on Remediation \nDaniel Pipp – Environmental Chemist/Direct Image Specialist\, Geoprobe Systems\nUsing HRSC Tools for Remedial Design Optimization and Improved Remedial Success \nDuane Guilfoil – President\, AST Environmental\nAddressing Legacy and Emerging Contaminants In Situ Using Novel Injectates \nJevins Waddell – President & Co-Founder\, Trium Environmental\nAI in the Oil Patch: Accelerating Remediation with Real-Time Field Intelligence
URL:https://vistageoscience.com/event/2026-des-moines-remediation-tools-workshop/
LOCATION:Hilton Garden Inn West Des Moines\, 205 South 64th Street West\, Des Moines\, IA\, 50266
CATEGORIES:Enviro Workshops
ATTACH;FMTTYPE=image/png:https://vistageoscience.com/wp-content/uploads/2026/02/2026-Milwaukee-Remediation-Tools-Workshop.png
END:VEVENT
END:VCALENDAR