BEGIN:VCALENDAR
VERSION:2.0
PRODID:-//Vista GeoScience - ECPv6.15.20//NONSGML v1.0//EN
CALSCALE:GREGORIAN
METHOD:PUBLISH
X-ORIGINAL-URL:https://vistageoscience.com
X-WR-CALDESC:Events for Vista GeoScience
REFRESH-INTERVAL;VALUE=DURATION:PT1H
X-Robots-Tag:noindex
X-PUBLISHED-TTL:PT1H
BEGIN:VTIMEZONE
TZID:America/Denver
BEGIN:DAYLIGHT
TZOFFSETFROM:-0700
TZOFFSETTO:-0600
TZNAME:MDT
DTSTART:20240310T090000
END:DAYLIGHT
BEGIN:STANDARD
TZOFFSETFROM:-0600
TZOFFSETTO:-0700
TZNAME:MST
DTSTART:20241103T080000
END:STANDARD
BEGIN:DAYLIGHT
TZOFFSETFROM:-0700
TZOFFSETTO:-0600
TZNAME:MDT
DTSTART:20250309T090000
END:DAYLIGHT
BEGIN:STANDARD
TZOFFSETFROM:-0600
TZOFFSETTO:-0700
TZNAME:MST
DTSTART:20251102T080000
END:STANDARD
BEGIN:DAYLIGHT
TZOFFSETFROM:-0700
TZOFFSETTO:-0600
TZNAME:MDT
DTSTART:20260308T090000
END:DAYLIGHT
BEGIN:STANDARD
TZOFFSETFROM:-0600
TZOFFSETTO:-0700
TZNAME:MST
DTSTART:20261101T080000
END:STANDARD
END:VTIMEZONE
BEGIN:VEVENT
DTSTART;VALUE=DATE:20251103
DTEND;VALUE=DATE:20251106
DTSTAMP:20260423T181443
CREATED:20250717T142216Z
LAST-MODIFIED:20250717T142216Z
UID:5204-1762128000-1762387199@vistageoscience.com
SUMMARY:SAME West – DCHWS West Fall 2025
DESCRIPTION:Join Vista GeoScience at SAME West – DCHWS West Fall 2025 \nVista GeoScience will attend the 2025 DCHWS West Symposium\, hosted by SAME Denver Metro Post\, November 3–5 in Denver. This symposium addresses engineering and science challenges tied to hazardous waste site cleanup. \nAs a participant\, Vista GeoScience engages with government\, military\, academic\, and private sector experts. We support collaborative sessions that integrate practical site design and remediation science. Vista GeoScience helps drive innovative\, reliable cleanup strategies at confined and complex petroleum and chemical sites. \nThe event combines technical presentations\, interactive panels\, and networking breaks focused on emerging tools and methodologies. Attendees will gain knowledge in environmental instrumentation\, high-resolution data collection\, and case-based remediation design. Vista GeoScience’s involvement highlights our expertise in HRSC\, in situ remediation\, and geoscience services tailored to hazardous site scenarios. \nVisit our booth to connect with our team\, review solutions\, and explore how we support efficient hazardous site cleanup and regulatory compliance. We look forward to advancing remediation science alongside industry leaders at SAME West. \nLEARN MORE!
URL:https://vistageoscience.com/event/same-west-dchws-west-symposium-2025/
LOCATION:CO
END:VEVENT
BEGIN:VEVENT
DTSTART;TZID=America/Denver:20251112T113000
DTEND;TZID=America/Denver:20251112T123000
DTSTAMP:20260423T181443
CREATED:20250818T181549Z
LAST-MODIFIED:20250818T183459Z
UID:5222-1762947000-1762950600@vistageoscience.com
SUMMARY:HRSC 101 Update – Standard and Low-Level Applications of the Membrane Interface Probe and Hydraulic Profiling Tool
DESCRIPTION:John V. Fontana\, CPG\, CWD\, Vista GeoScience \nDescription coming soon!
URL:https://vistageoscience.com/event/hrsc-101-update-standard-and-low-level-applications-of-the-membrane-interface-probe-and-hydraulic-profiling-tool-2/
LOCATION:CO
CATEGORIES:Webinars
ATTACH;FMTTYPE=image/jpeg:https://vistageoscience.com/wp-content/uploads/2025/08/OiHPT-UV-Survey-at-Booster-Stn-in-WY-scaled.jpg
END:VEVENT
END:VCALENDAR