BEGIN:VCALENDAR
VERSION:2.0
PRODID:-//Vista GeoScience - ECPv6.15.20//NONSGML v1.0//EN
CALSCALE:GREGORIAN
METHOD:PUBLISH
X-ORIGINAL-URL:https://vistageoscience.com
X-WR-CALDESC:Events for Vista GeoScience
REFRESH-INTERVAL;VALUE=DURATION:PT1H
X-Robots-Tag:noindex
X-PUBLISHED-TTL:PT1H
BEGIN:VTIMEZONE
TZID:America/Denver
BEGIN:DAYLIGHT
TZOFFSETFROM:-0700
TZOFFSETTO:-0600
TZNAME:MDT
DTSTART:20240310T090000
END:DAYLIGHT
BEGIN:STANDARD
TZOFFSETFROM:-0600
TZOFFSETTO:-0700
TZNAME:MST
DTSTART:20241103T080000
END:STANDARD
BEGIN:DAYLIGHT
TZOFFSETFROM:-0700
TZOFFSETTO:-0600
TZNAME:MDT
DTSTART:20250309T090000
END:DAYLIGHT
BEGIN:STANDARD
TZOFFSETFROM:-0600
TZOFFSETTO:-0700
TZNAME:MST
DTSTART:20251102T080000
END:STANDARD
BEGIN:DAYLIGHT
TZOFFSETFROM:-0700
TZOFFSETTO:-0600
TZNAME:MDT
DTSTART:20260308T090000
END:DAYLIGHT
BEGIN:STANDARD
TZOFFSETFROM:-0600
TZOFFSETTO:-0700
TZNAME:MST
DTSTART:20261101T080000
END:STANDARD
END:VTIMEZONE
BEGIN:VEVENT
DTSTART;TZID=America/Denver:20250813T113000
DTEND;TZID=America/Denver:20250813T123000
DTSTAMP:20260423T220621
CREATED:20250716T143745Z
LAST-MODIFIED:20250716T143745Z
UID:5192-1755084600-1755088200@vistageoscience.com
SUMMARY:HRSC 101 Update – Unravelling Complex LNAPL Sites with the Optical Image Profiling (OIP) Tools & Caution About False Positives
DESCRIPTION:Presented by John V. Fontana\, CPG\, CWD – Vista GeoScience \nHigh-resolution site characterization (HRSC) tools\, when used properly\, greatly improve LNAPL site investigations. This presentation focuses on the Optical Image Profiler (OIP)\, along with tools like the Membrane Interface Probe (MIP)\, Hydraulic Profiling Tool (HPT)\, and Electrical Conductivity (EC) sensor. Together\, these tools provide detailed insights into petroleum product behavior underground. At many sites\, NAPL may occupy just 10% of the plume volume\, yet it holds up to 90% of the total mass. Therefore\, detecting and mapping the NAPL accurately is critical. OIP tools for LNAPL site characterization can identify the persistent source zones that require focused remediation. \nThree versions of the OIP exist\, each designed to detect specific types of NAPL. These include light fuels like gasoline\, mid-weight condensates\, and heavier substances such as creosote and crude oil. The OIP system uses fluorescence to detect these compounds\, while the HPT and EC tools help map subsurface layers. These tools can identify migration paths\, confining layers\, and back-diffusion zones. However\, users must beware of false positives caused by natural minerals. Careful data interpretation helps distinguish real signals from background interference. \nJohn Fontana will share several case studies that show how OIP tools for LNAPL site characterization shaped project decisions. At one site\, investigators found condensate mass above the water table. This finding led the team to switch from injection to air sparge/vapor extraction. At another site\, deep LNAPL movement was discovered in confined zones\, moving against the groundwater flow. A third case revealed perched and deep LNAPL layers that traditional methods missed. One example even showed how monitoring wells can give false thickness readings due to smear zones. \nFinally\, 2D and 3D models will show how OIP tools refine conceptual site models (CSMs). These models improve system design and help teams choose better remediation strategies. Attendees will leave with practical knowledge to tackle complex petroleum sites more effectively. \nregister HERE
URL:https://vistageoscience.com/event/oip-tools-lnapl-site-characterization/
LOCATION:CO
END:VEVENT
END:VCALENDAR