BEGIN:VCALENDAR
VERSION:2.0
PRODID:-//Vista GeoScience - ECPv6.15.20//NONSGML v1.0//EN
CALSCALE:GREGORIAN
METHOD:PUBLISH
X-WR-CALNAME:Vista GeoScience
X-ORIGINAL-URL:https://vistageoscience.com
X-WR-CALDESC:Events for Vista GeoScience
REFRESH-INTERVAL;VALUE=DURATION:PT1H
X-Robots-Tag:noindex
X-PUBLISHED-TTL:PT1H
BEGIN:VTIMEZONE
TZID:America/Denver
BEGIN:DAYLIGHT
TZOFFSETFROM:-0700
TZOFFSETTO:-0600
TZNAME:MDT
DTSTART:20240310T090000
END:DAYLIGHT
BEGIN:STANDARD
TZOFFSETFROM:-0600
TZOFFSETTO:-0700
TZNAME:MST
DTSTART:20241103T080000
END:STANDARD
BEGIN:DAYLIGHT
TZOFFSETFROM:-0700
TZOFFSETTO:-0600
TZNAME:MDT
DTSTART:20250309T090000
END:DAYLIGHT
BEGIN:STANDARD
TZOFFSETFROM:-0600
TZOFFSETTO:-0700
TZNAME:MST
DTSTART:20251102T080000
END:STANDARD
BEGIN:DAYLIGHT
TZOFFSETFROM:-0700
TZOFFSETTO:-0600
TZNAME:MDT
DTSTART:20260308T090000
END:DAYLIGHT
BEGIN:STANDARD
TZOFFSETFROM:-0600
TZOFFSETTO:-0700
TZNAME:MST
DTSTART:20261101T080000
END:STANDARD
END:VTIMEZONE
BEGIN:VEVENT
DTSTART;TZID=America/Denver:20250723T113000
DTEND;TZID=America/Denver:20250723T123000
DTSTAMP:20260423T230528
CREATED:20250715T172156Z
LAST-MODIFIED:20250715T172156Z
UID:5186-1753270200-1753273800@vistageoscience.com
SUMMARY:Biogeochemical Reductive Dechlorination (BiRD) Update: In-Situ Destructive Treatment of Recalcitrant Groundwater Contamination
DESCRIPTION:Jim Studer\, Technical Consultant\, InfraSUR LLC \nBiRD in situ chemical reduction is now a trusted method for treating difficult groundwater contamination. This approach uses both biotic and abiotic reactions. These reactions create ferrous monosulfides\, which are very reactive and break down tough contaminants. BiRD works well on chlorinated solvents\, but it also treats perchlorate\, nitrate\, and other halogenated compounds. In addition\, it helps stabilize certain metals and metalloids that react with sulfides. Because of this wide range\, engineers often compare BiRD to other treatment options. These include bioremediation\, ISCO\, natural attenuation\, and similar ISCR methods. BiRD works alongside these methods when a combined remedy is best. So far\, teams have used it at Superfund sites\, military bases\, factories\, and local businesses. Notably\, several of these projects are in the Denver Basin. \nDuring this talk\, InfraSUR will share what they’ve learned from using BiRD in both labs and real field sites. First\, they will explain how to tell when BiRD in situ chemical reduction is the right choice. Then\, they will show how site conditions—like soil\, groundwater speed\, and contaminant type—affect design and results. Next\, they will walk through common steps for setting up a BiRD project. These include choosing the right materials\, setting up injection tools\, and checking the site during and after treatment. They will also talk about how to use high-resolution site data to build strong site models. This helps improve both planning and long-term outcomes. \nFinally\, InfraSUR will talk about performance and cost. They will share data from past projects that show how fast and how well BiRD works. Some sites showed big drops in contamination in just a few months. Over time\, BiRD keeps working with very little energy input. The team will also compare costs with other methods like pump-and-treat or ISCO. In many cases\, BiRD costs less and takes less time. By the end\, attendees will understand how to apply BiRD effectively and with confidence.\nregister HERE!
URL:https://vistageoscience.com/event/bird-in-situ-chemical-reduction-remediation/
LOCATION:CO
END:VEVENT
END:VCALENDAR