BEGIN:VCALENDAR
VERSION:2.0
PRODID:-//Vista GeoScience - ECPv6.15.20//NONSGML v1.0//EN
CALSCALE:GREGORIAN
METHOD:PUBLISH
X-WR-CALNAME:Vista GeoScience
X-ORIGINAL-URL:https://vistageoscience.com
X-WR-CALDESC:Events for Vista GeoScience
REFRESH-INTERVAL;VALUE=DURATION:PT1H
X-Robots-Tag:noindex
X-PUBLISHED-TTL:PT1H
BEGIN:VTIMEZONE
TZID:America/Denver
BEGIN:DAYLIGHT
TZOFFSETFROM:-0700
TZOFFSETTO:-0600
TZNAME:MDT
DTSTART:20240310T090000
END:DAYLIGHT
BEGIN:STANDARD
TZOFFSETFROM:-0600
TZOFFSETTO:-0700
TZNAME:MST
DTSTART:20241103T080000
END:STANDARD
BEGIN:DAYLIGHT
TZOFFSETFROM:-0700
TZOFFSETTO:-0600
TZNAME:MDT
DTSTART:20250309T090000
END:DAYLIGHT
BEGIN:STANDARD
TZOFFSETFROM:-0600
TZOFFSETTO:-0700
TZNAME:MST
DTSTART:20251102T080000
END:STANDARD
BEGIN:DAYLIGHT
TZOFFSETFROM:-0700
TZOFFSETTO:-0600
TZNAME:MDT
DTSTART:20260308T090000
END:DAYLIGHT
BEGIN:STANDARD
TZOFFSETFROM:-0600
TZOFFSETTO:-0700
TZNAME:MST
DTSTART:20261101T080000
END:STANDARD
END:VTIMEZONE
BEGIN:VEVENT
DTSTART;TZID=America/Denver:20250502T073000
DTEND;TZID=America/Denver:20250502T180000
DTSTAMP:20260424T012901
CREATED:20250327T142929Z
LAST-MODIFIED:20250327T143443Z
UID:5134-1746171000-1746208800@vistageoscience.com
SUMMARY:2025 AWRA & CGWA Symposium
DESCRIPTION:Join us at the 2025 AWRA & CGWA Symposium\, a premier gathering for hydrology and water management experts\, researchers\, and practitioners. This event provides a platform for discussing innovative water solutions and sharing insights. The symposium theme\, “A Journey of Water in the West: Legacy and Progress\,” explores the historical importance of water development in the American West. Furthermore\, it examines how past lessons can guide us toward a more sustainable and equitable future. \nAt the 2025 AWRA & CGWA Symposium\, attendees will engage in discussions about challenges and opportunities in water management. A key focus will be the effects of historical water practices on the region. These practices have significantly impacted the environment\, economy\, and local communities. Additionally\, the symposium will highlight the importance of sustainable water practices in managing limited resources and ensuring equitable access for all. \nAs climate change continues to impact water availability\, the need for adaptive solutions is more pressing than ever. Therefore\, experts will present the latest hydrological research and discuss its implications. They will also address the role of policy reform in managing water resources efficiently. Moreover\, innovative technologies and strategies for water conservation will be explored during the event. Attendees will learn how to improve water distribution systems\, ensuring clean\, safe water for every community. \nKey Topics Include: \n\n\nThe historical impact of water management on the West \n\n\nInnovations in sustainable water practices \n\n\nAdvancing equitable water distribution and policy reform \n\n\nThe challenges posed by climate change to hydrological research \n\n\nThe 2025 AWRA & CGWA Symposium will foster collaboration among scientists\, policymakers\, and industry leaders to create actionable solutions. \nFull Event Itinerary \nDon’t miss the chance to join us in shaping the future of water in the American West!
URL:https://vistageoscience.com/event/2025-awra-cgwa-symposium/
LOCATION:Mount Vernon Canyon Club\, Golden\, CO\, 80401\, United States
END:VEVENT
BEGIN:VEVENT
DTSTART;TZID=America/Denver:20250508T074500
DTEND;TZID=America/Denver:20250508T170000
DTSTAMP:20260424T012901
CREATED:20250327T150854Z
LAST-MODIFIED:20250501T134301Z
UID:5139-1746690300-1746723600@vistageoscience.com
SUMMARY:RemFest25 Albuquerque 2025: Premier Environmental Networking & Education Event for Industry Professionals
DESCRIPTION:RemFest25 Albuquerque 2025 is making its highly anticipated debut in the Land of Enchantment. This premier event promises an EPIC day full of education\, networking\, and camaraderie. Whether you’re a professional in the environmental\, energy\, or regulatory sectors\, you won’t want to miss this unique opportunity to connect with industry leaders and gain valuable insights. \nThe event will begin at 7:00 AM with sponsor setup. Then\, at 7:45 AM\, attendees can check in\, collect raffle tickets\, and enjoy coffee with sponsors. This is an excellent chance to network before the event officially kicks off. At 8:30 AM\, we will start the program with a welcoming introduction\, acknowledging our sponsors\, industry professionals\, and all attendees. This sets the tone for a day of collaboration and learning. \nThe first session\, at 8:45 AM\, will feature Miori Harms from NMED discussing important AUM updates. This session is ideal for anyone involved in water management or environmental policy. Following this\, there will be a 15-minute break with sponsors\, offering more opportunities for informal networking and discussion. \nAt 9:30 AM\, Mark Murphy from NMED will talk about the New Mexico Petroleum Storage Tank Bureau. This session will cover the challenges and opportunities within the petroleum industry\, particularly with regulatory developments. Afterward\, there will be a quick break at 10:00 AM to refresh and continue networking. \nAt 10:15 AM\, Johnny Mitchell from Pace Labs will focus on ensuring analytical data integrity. This session is vital for those working with environmental data and laboratory standards. At 11:00 AM\, Amanda Reeves from Snell & Wilmer will provide a crucial update on air quality regulations under the Trump 2.0 Administration. \nThe event will break for lunch at 11:30 AM\, giving attendees time to network further with sponsors and fellow professionals. Following lunch\, at 12:30 PM\, Corbin Carsrud\, Bernalillo County Hydrogeologist\, will discuss trends and warning flags in the East Mountain area. At 1:30 PM\, Claudia Trueblood\, Ph.D.\, will present updates on PFAS contamination and other emerging contaminants in the environmental sector. \nFinally\, the event will wrap up at 3:00 PM with a raffle and camaraderie portion\, during which we’ll acknowledge sponsors and foster continued networking. \nRegister Now to ensure your spot at RemFest25 in Albuquerque. Don’t miss out on this exceptional opportunity to grow your network\, learn from industry experts\, and be part of this exciting event. \nDon’t miss your chance to attend RemFest25 in Albuquerque! REGISTER NOW to secure your spot.
URL:https://vistageoscience.com/event/remfest25-environmental-networking-and-education/
LOCATION:Dave and Busters- Albuquerque\, 2100 Louisiana Blvd NE Bldg 201\, Albuquerque\, NM\, 87110\, United States
END:VEVENT
BEGIN:VEVENT
DTSTART;TZID=America/Denver:20250513T170000
DTEND;TZID=America/Denver:20250513T210000
DTSTAMP:20260424T012901
CREATED:20250328T154252Z
LAST-MODIFIED:20250328T154252Z
UID:5147-1747155600-1747170000@vistageoscience.com
SUMMARY:CEMS Movie Night: Wildlife on Screen
DESCRIPTION:The Colorado Environmental Management Society (CEMS) invites you to its annual environmental film screening event on May 13\, 2025\, in Denver\, CO. This exciting event happens from 5:00 pm to 9:00 pm at the Denver Sie FilmCenter\, located at 2510 East Colfax Avenue. First\, attendees can enjoy a networking and happy hour session from 5:00 pm to 6:30 pm with professionals and students. During this time\, industry leaders\, students\, and environmental enthusiasts will connect\, exchange ideas\, and discuss important environmental topics that impact communities today. \nAfterward\, the event will feature a fascinating wildlife-themed film beginning at 6:30 pm for all attendees. Because film is a powerful storytelling medium\, this environmental film screening event encourages discussions about ecological preservation\, biodiversity\, and sustainability. Immediately after the screening\, an interactive discussion session will allow participants to explore key themes presented throughout the inspiring film. Since CEMS promotes education and awareness\, this discussion helps attendees share insights and reflections. \nNotably\, CEMS has provided a forum for discussing environmental health\, safety\, and waste management since its establishment in 1985. Through events like this environmental film screening event\, CEMS raises awareness while fostering conversations about sustainability\, conservation\, and environmental stewardship. Therefore\, this event is perfect for those passionate about wildlife\, ecology\, and protecting natural habitats. Additionally\, it provides an excellent opportunity to network with industry professionals in a relaxed and welcoming environment. \nMoreover\, registration includes one complimentary drink ticket along with delicious light fare available for all attendees throughout the evening. Because CEMS values community engagement\, sponsorship opportunities exist for organizations wanting to support its mission while increasing visibility. For details about registration\, sponsorship\, or event logistics\, please visit the official CEMS website. \nFinally\, don’t miss this opportunity to engage with like-minded individuals while learning about critical environmental issues. Mark your calendars and join CEMS on May 13\, 2025! \nRegister HERE!
URL:https://vistageoscience.com/event/cems-environmental-film-screening-event-2025/
LOCATION:Denver SIE Film Center\, 2510 E Colfax Ave.\, Denver\, CO\, 80206\, United States
END:VEVENT
BEGIN:VEVENT
DTSTART;TZID=America/Denver:20250528T080000
DTEND;TZID=America/Denver:20250530T170000
DTSTAMP:20260424T012901
CREATED:20250328T151254Z
LAST-MODIFIED:20250328T151254Z
UID:5144-1748419200-1748624400@vistageoscience.com
SUMMARY:SAME Omaha Post Industry Day 2025
DESCRIPTION:The SAME Omaha Post 2025 Industry Day & Golf Outing is a must-attend event for A/E/C professionals\, so don’t miss it. This dynamic three-day conference happens from Wednesday\, May 28\, to Friday\, May 30\, 2025\, so mark your calendar now. A special exhibitor set-up takes place on Tuesday\, May 27\, providing early networking opportunities for all attendees. \nHosted at the CHI Health Center Arena and Convention Center\, this event offers outstanding educational sessions\, valuable training\, and exceptional networking opportunities. Attendees will experience an upgraded program featuring engaging speakers\, industry insights\, and hands-on workshops\, which will enhance their professional growth. The Omaha Post celebrates its 85th anniversary\, making this a milestone event that you should definitely attend. \nExciting additions include an enhanced food and beverage experience\, as well as a spectacular celebration at the Durham Museum. The event also features a special Fellows lunch\, which will honor the Academy of Fellows’ 30th anniversary with the National President. Attendees will gain insights from industry leaders\, so they can develop meaningful professional connections. \nFor over 85 years\, the SAME Omaha Post has supported professional development and mentorship\, ensuring growth in the industry. Established in 1940 under the leadership of Lt. Col. W.M. Hoge\, it has grown to over 500 members\, which demonstrates its strong impact. The Omaha Post actively advances the SAME mission\, while fostering leadership\, industry education\, and community support. \nSAME\, founded in 1920\, has led national security infrastructure advancements for over a century\, so it plays a crucial role. With 25\,000 members\, SAME promotes professional growth\, networking\, and collaboration\, which benefit professionals at all levels. This national organization connects professionals with resources\, education\, and leadership programs\, making it an invaluable asset. \nMark your calendar and join industry professionals at the SAME Omaha Post 2025 Industry Day & Golf Outing\, so you can expand your network. This event offers a premier platform to engage\, learn\, and network\, which will elevate your career. Visit same.org/omaha to learn more and register today!
URL:https://vistageoscience.com/event/same-omaha-post-industry-day-2025/
LOCATION:CO
END:VEVENT
END:VCALENDAR