BEGIN:VCALENDAR
VERSION:2.0
PRODID:-//Vista GeoScience - ECPv6.15.20//NONSGML v1.0//EN
CALSCALE:GREGORIAN
METHOD:PUBLISH
X-WR-CALNAME:Vista GeoScience
X-ORIGINAL-URL:https://vistageoscience.com
X-WR-CALDESC:Events for Vista GeoScience
REFRESH-INTERVAL;VALUE=DURATION:PT1H
X-Robots-Tag:noindex
X-PUBLISHED-TTL:PT1H
BEGIN:VTIMEZONE
TZID:America/Denver
BEGIN:DAYLIGHT
TZOFFSETFROM:-0700
TZOFFSETTO:-0600
TZNAME:MDT
DTSTART:20230312T090000
END:DAYLIGHT
BEGIN:STANDARD
TZOFFSETFROM:-0600
TZOFFSETTO:-0700
TZNAME:MST
DTSTART:20231105T080000
END:STANDARD
BEGIN:DAYLIGHT
TZOFFSETFROM:-0700
TZOFFSETTO:-0600
TZNAME:MDT
DTSTART:20240310T090000
END:DAYLIGHT
BEGIN:STANDARD
TZOFFSETFROM:-0600
TZOFFSETTO:-0700
TZNAME:MST
DTSTART:20241103T080000
END:STANDARD
BEGIN:DAYLIGHT
TZOFFSETFROM:-0700
TZOFFSETTO:-0600
TZNAME:MDT
DTSTART:20250309T090000
END:DAYLIGHT
BEGIN:STANDARD
TZOFFSETFROM:-0600
TZOFFSETTO:-0700
TZNAME:MST
DTSTART:20251102T080000
END:STANDARD
END:VTIMEZONE
BEGIN:VEVENT
DTSTART;TZID=America/Denver:20240810T080000
DTEND;TZID=America/Denver:20240813T170000
DTSTAMP:20260424T121517
CREATED:20240613T194225Z
LAST-MODIFIED:20240613T194225Z
UID:5089-1723276800-1723568400@vistageoscience.com
SUMMARY:2024 AIPG National Conference
DESCRIPTION:From August 10 to 13\, 2024\, AIPG will be holding its National Meeting in beautiful Durango\, Colorado on the campus of Fort Lewis College\, an educational institution of about 3500 students situated on a mesa overlooking the town. Durango is located in southwestern Colorado in the foothills of the San Juan Mountains. The geology of the area is complex and highly diverse and includes amazing exposures of glacial geology\, enormous volcanic calderas\, exceptional exposures of Paleozoic and Mesozoic sedimentary deposits\, and Precambrian basement complexes. \n 
URL:https://vistageoscience.com/event/2024-aipg-national-conference/
LOCATION:Fort Lewis College\, 1000 Rim Dr.\, Durango\, CO\, 81301\, United States
ATTACH;FMTTYPE=image/png:https://vistageoscience.com/wp-content/uploads/2020/08/AIPG_Logo.png
END:VEVENT
END:VCALENDAR