BEGIN:VCALENDAR
VERSION:2.0
PRODID:-//Vista GeoScience - ECPv6.15.20//NONSGML v1.0//EN
CALSCALE:GREGORIAN
METHOD:PUBLISH
X-ORIGINAL-URL:https://vistageoscience.com
X-WR-CALDESC:Events for Vista GeoScience
REFRESH-INTERVAL;VALUE=DURATION:PT1H
X-Robots-Tag:noindex
X-PUBLISHED-TTL:PT1H
BEGIN:VTIMEZONE
TZID:America/Denver
BEGIN:DAYLIGHT
TZOFFSETFROM:-0700
TZOFFSETTO:-0600
TZNAME:MDT
DTSTART:20230312T090000
END:DAYLIGHT
BEGIN:STANDARD
TZOFFSETFROM:-0600
TZOFFSETTO:-0700
TZNAME:MST
DTSTART:20231105T080000
END:STANDARD
BEGIN:DAYLIGHT
TZOFFSETFROM:-0700
TZOFFSETTO:-0600
TZNAME:MDT
DTSTART:20240310T090000
END:DAYLIGHT
BEGIN:STANDARD
TZOFFSETFROM:-0600
TZOFFSETTO:-0700
TZNAME:MST
DTSTART:20241103T080000
END:STANDARD
BEGIN:DAYLIGHT
TZOFFSETFROM:-0700
TZOFFSETTO:-0600
TZNAME:MDT
DTSTART:20250309T090000
END:DAYLIGHT
BEGIN:STANDARD
TZOFFSETFROM:-0600
TZOFFSETTO:-0700
TZNAME:MST
DTSTART:20251102T080000
END:STANDARD
END:VTIMEZONE
BEGIN:VEVENT
DTSTART;TZID=America/Denver:20240419T080000
DTEND;TZID=America/Denver:20240419T170000
DTSTAMP:20260424T174316
CREATED:20240318T152049Z
LAST-MODIFIED:20240318T152049Z
UID:5023-1713513600-1713546000@vistageoscience.com
SUMMARY:American Water Resources Association (AWRA) and the Colorado Groundwater Association (CGWA)'s Annual Symposium
DESCRIPTION:2024 American Water Resources Association (AWRA) and the Colorado Groundwater Association (CGWA)’s Annual Symposium\nHarmony in Hydrology: Balancing Interests for a Shared Water Future\nKeynote: Lauren Ris\, CWCB Director
URL:https://vistageoscience.com/event/american-water-resources-association-awra-and-the-colorado-groundwater-association-cgwas-annual-symposium/
LOCATION:Mount Vernon Canyon Club\, Golden\, CO\, 80401\, United States
ATTACH;FMTTYPE=image/jpeg:https://vistageoscience.com/wp-content/uploads/2024/03/CGWA-AWRA-Logo-e1710782208590.jpg
END:VEVENT
END:VCALENDAR