BEGIN:VCALENDAR
VERSION:2.0
PRODID:-//Vista GeoScience - ECPv6.15.20//NONSGML v1.0//EN
CALSCALE:GREGORIAN
METHOD:PUBLISH
X-WR-CALNAME:Vista GeoScience
X-ORIGINAL-URL:https://vistageoscience.com
X-WR-CALDESC:Events for Vista GeoScience
REFRESH-INTERVAL;VALUE=DURATION:PT1H
X-Robots-Tag:noindex
X-PUBLISHED-TTL:PT1H
BEGIN:VTIMEZONE
TZID:America/Denver
BEGIN:DAYLIGHT
TZOFFSETFROM:-0700
TZOFFSETTO:-0600
TZNAME:MDT
DTSTART:20220313T090000
END:DAYLIGHT
BEGIN:STANDARD
TZOFFSETFROM:-0600
TZOFFSETTO:-0700
TZNAME:MST
DTSTART:20221106T080000
END:STANDARD
BEGIN:DAYLIGHT
TZOFFSETFROM:-0700
TZOFFSETTO:-0600
TZNAME:MDT
DTSTART:20230312T090000
END:DAYLIGHT
BEGIN:STANDARD
TZOFFSETFROM:-0600
TZOFFSETTO:-0700
TZNAME:MST
DTSTART:20231105T080000
END:STANDARD
BEGIN:DAYLIGHT
TZOFFSETFROM:-0700
TZOFFSETTO:-0600
TZNAME:MDT
DTSTART:20240310T090000
END:DAYLIGHT
BEGIN:STANDARD
TZOFFSETFROM:-0600
TZOFFSETTO:-0700
TZNAME:MST
DTSTART:20241103T080000
END:STANDARD
END:VTIMEZONE
BEGIN:VEVENT
DTSTART;TZID=America/Denver:20230504T120000
DTEND;TZID=America/Denver:20230504T170000
DTSTAMP:20260425T072218
CREATED:20230426T140305Z
LAST-MODIFIED:20230426T140327Z
UID:4677-1683201600-1683219600@vistageoscience.com
SUMMARY:MSECA Meeting on Site Investigation and Remediation Design
DESCRIPTION:John will be at MSECA’s next event\, May 4th at the Indiana Government Center in Indianapolis. \nJoin John in his discussion and talk titled\, \nApplying Advanced Site Characterization Technologies for Optimized Remediation Design\nPresentation Description:\nRecently published Interstate Technology Regulatory Council (ITRC) guidance has summarized the interlinked topics of implementing advanced site characterization technologies and optimizing in-situ remediation strategies. Both topics are interwoven in the guidance and should be in practice. Most remediation designs are constructed using initial design characterization data\, when in fact\, additional data needs to be acquired through another phase of work\, known as remediation design characterization (RDC). Initial site characterization is completed for the purpose of simply defining the two-dimensional lateral extent of the problem relative to regulations. An RDC collects additional data to characterize all of the related contamination in three dimensions\, as well as geology\, hydrostratigraphy\, geochemistry\, biology\, and any other parameters needed to select\, and apply\, specific types of treatments. \nThe presentation will pull from ITRC guidance and highlight the use of now common high resolution site characterization (HRSC) tool and other field measurements that can help conduct a thorough RDC. Then\, also from the guidance\, demonstrate the process of RDC\, Design\, and Implementation (the Design Wheel) and show how it is optimized using an iterative “staircase” of bench testing\, pilot testing\, and full scale treatment.
URL:https://vistageoscience.com/event/mseca-meeting-on-site-investigation-and-remediation-design/
LOCATION:Indiana Government Center South (Conference Center Auditorium)\, 402 W Washington St\,\, Indianapolis\, 46204\, United States
ATTACH;FMTTYPE=image/png:https://vistageoscience.com/wp-content/uploads/2023/04/MSECA-Logo.png
END:VEVENT
BEGIN:VEVENT
DTSTART;TZID=America/Denver:20230508T080000
DTEND;TZID=America/Denver:20230511T170000
DTSTAMP:20260425T072218
CREATED:20230322T150441Z
LAST-MODIFIED:20230322T150441Z
UID:4657-1683532800-1683824400@vistageoscience.com
SUMMARY:2023 Battelle Bioremediation Symposium
DESCRIPTION:Vista GeoScience will be exhibiting at this year’s Battelle event. Visit Booth 416 to see John Fontana and learn about some new tech out in the industry now.\nJohn will also be speaking at this event. Register for the technical talks before March 29th to take advantage of the early bird prices. Click here for registration > Battelle BioRemediation Technical Registration
URL:https://vistageoscience.com/event/2023-battelle-bioremediation-symposium/
LOCATION:Austin Marriott Downtown\, 304 E. Cesar Chavez St\, Austin\, CO\, 78701\, United States
END:VEVENT
END:VCALENDAR