BEGIN:VCALENDAR
VERSION:2.0
PRODID:-//Vista GeoScience - ECPv6.15.20//NONSGML v1.0//EN
CALSCALE:GREGORIAN
METHOD:PUBLISH
X-ORIGINAL-URL:https://vistageoscience.com
X-WR-CALDESC:Events for Vista GeoScience
REFRESH-INTERVAL;VALUE=DURATION:PT1H
X-Robots-Tag:noindex
X-PUBLISHED-TTL:PT1H
BEGIN:VTIMEZONE
TZID:America/Denver
BEGIN:DAYLIGHT
TZOFFSETFROM:-0700
TZOFFSETTO:-0600
TZNAME:MDT
DTSTART:20220313T090000
END:DAYLIGHT
BEGIN:STANDARD
TZOFFSETFROM:-0600
TZOFFSETTO:-0700
TZNAME:MST
DTSTART:20221106T080000
END:STANDARD
BEGIN:DAYLIGHT
TZOFFSETFROM:-0700
TZOFFSETTO:-0600
TZNAME:MDT
DTSTART:20230312T090000
END:DAYLIGHT
BEGIN:STANDARD
TZOFFSETFROM:-0600
TZOFFSETTO:-0700
TZNAME:MST
DTSTART:20231105T080000
END:STANDARD
BEGIN:DAYLIGHT
TZOFFSETFROM:-0700
TZOFFSETTO:-0600
TZNAME:MDT
DTSTART:20240310T090000
END:DAYLIGHT
BEGIN:STANDARD
TZOFFSETFROM:-0600
TZOFFSETTO:-0700
TZNAME:MST
DTSTART:20241103T080000
END:STANDARD
END:VTIMEZONE
BEGIN:VEVENT
DTSTART;TZID=America/Denver:20230222T113000
DTEND;TZID=America/Denver:20230222T123000
DTSTAMP:20260425T112811
CREATED:20230125T203850Z
LAST-MODIFIED:20230125T203850Z
UID:4616-1677065400-1677069000@vistageoscience.com
SUMMARY:VGS Guest Webinar: Presentation by Bill Newman\, Founder and President of RNAS
DESCRIPTION:  \nThe webinar provides an overview of anaerobic bioremediation methods for chlorinated solvents\, nitroaromatics and heavy metals based on more than 20 years of field experience. Topics include a review of the properties of electron donors\, buffers\, and bioaugmentation cultures\, and how they affect injection and distribution in the subsurface. Injection methods for the effective delivery of corrections in contaminated groundwater\, including direct injection in source areas and the creation of biobarriers to treat large\, diluted plumes\, will be discussed. Remedial design characterization\, selecting optimal injection methods\, and bioremediation corrections\, is the key to success. \nBill Newman is the founder and president of RNAS Remediation Products. Bill has over 37 years of experience in bioremediation and has been formulating manufacturing and selling bioremediation products for over twenty years. RNAS Remediation Products has been manufacturing and selling Newman Zone EVO since 2002 and they now offers a full suite of bioremediation products. In addition to remediation products RNAS provides free technical support. We look forward to finding solutions for your project.
URL:https://vistageoscience.com/event/vgs-guest-webinar-presentation-by-bill-newman-founder-and-president-of-rnas/
LOCATION:VGS Webinar
ATTACH;FMTTYPE=image/jpeg:https://vistageoscience.com/wp-content/uploads/2023/01/Intro-Slide-Guest-Webinar-Bill-Newman-RNAS-2023.jpg
ORGANIZER;CN="Vista GeoScience":MAILTO:info@vistageoscience.com
END:VEVENT
END:VCALENDAR