BEGIN:VCALENDAR
VERSION:2.0
PRODID:-//Vista GeoScience - ECPv6.15.20//NONSGML v1.0//EN
CALSCALE:GREGORIAN
METHOD:PUBLISH
X-WR-CALNAME:Vista GeoScience
X-ORIGINAL-URL:https://vistageoscience.com
X-WR-CALDESC:Events for Vista GeoScience
REFRESH-INTERVAL;VALUE=DURATION:PT1H
X-Robots-Tag:noindex
X-PUBLISHED-TTL:PT1H
BEGIN:VTIMEZONE
TZID:America/Denver
BEGIN:DAYLIGHT
TZOFFSETFROM:-0700
TZOFFSETTO:-0600
TZNAME:MDT
DTSTART:20210314T090000
END:DAYLIGHT
BEGIN:STANDARD
TZOFFSETFROM:-0600
TZOFFSETTO:-0700
TZNAME:MST
DTSTART:20211107T080000
END:STANDARD
BEGIN:DAYLIGHT
TZOFFSETFROM:-0700
TZOFFSETTO:-0600
TZNAME:MDT
DTSTART:20220313T090000
END:DAYLIGHT
BEGIN:STANDARD
TZOFFSETFROM:-0600
TZOFFSETTO:-0700
TZNAME:MST
DTSTART:20221106T080000
END:STANDARD
BEGIN:DAYLIGHT
TZOFFSETFROM:-0700
TZOFFSETTO:-0600
TZNAME:MDT
DTSTART:20230312T090000
END:DAYLIGHT
BEGIN:STANDARD
TZOFFSETFROM:-0600
TZOFFSETTO:-0700
TZNAME:MST
DTSTART:20231105T080000
END:STANDARD
END:VTIMEZONE
BEGIN:VEVENT
DTSTART;TZID=America/Denver:20221206T080000
DTEND;TZID=America/Denver:20221208T170000
DTSTAMP:20260425T135552
CREATED:20220923T164934Z
LAST-MODIFIED:20220923T172307Z
UID:4587-1670313600-1670518800@vistageoscience.com
SUMMARY:NGWA Groundwater Week 2022
DESCRIPTION:Vista will be Exhibiting at booth 1522 this year. Visit with our Field Operations Managers and President themselves to find out more about our most up to date technology practices in Environmental Remediation and Advanced Site Characterization. \nPlease email us at info@vistageoscience.com for more information. \n 
URL:https://vistageoscience.com/event/ngwa-groundwater-week-2022/
LOCATION:Las Vegas Convention Center\, 3150 Paradise Road\, Las Vegas\, NV\, 89109\, United States
ATTACH;FMTTYPE=image/jpeg:https://vistageoscience.com/wp-content/uploads/2022/09/NGWA-2022.jpg
END:VEVENT
END:VCALENDAR