BEGIN:VCALENDAR
VERSION:2.0
PRODID:-//Vista GeoScience - ECPv6.15.20//NONSGML v1.0//EN
CALSCALE:GREGORIAN
METHOD:PUBLISH
X-WR-CALNAME:Vista GeoScience
X-ORIGINAL-URL:https://vistageoscience.com
X-WR-CALDESC:Events for Vista GeoScience
REFRESH-INTERVAL;VALUE=DURATION:PT1H
X-Robots-Tag:noindex
X-PUBLISHED-TTL:PT1H
BEGIN:VTIMEZONE
TZID:America/Denver
BEGIN:DAYLIGHT
TZOFFSETFROM:-0700
TZOFFSETTO:-0600
TZNAME:MDT
DTSTART:20210314T090000
END:DAYLIGHT
BEGIN:STANDARD
TZOFFSETFROM:-0600
TZOFFSETTO:-0700
TZNAME:MST
DTSTART:20211107T080000
END:STANDARD
BEGIN:DAYLIGHT
TZOFFSETFROM:-0700
TZOFFSETTO:-0600
TZNAME:MDT
DTSTART:20220313T090000
END:DAYLIGHT
BEGIN:STANDARD
TZOFFSETFROM:-0600
TZOFFSETTO:-0700
TZNAME:MST
DTSTART:20221106T080000
END:STANDARD
BEGIN:DAYLIGHT
TZOFFSETFROM:-0700
TZOFFSETTO:-0600
TZNAME:MDT
DTSTART:20230312T090000
END:DAYLIGHT
BEGIN:STANDARD
TZOFFSETFROM:-0600
TZOFFSETTO:-0700
TZNAME:MST
DTSTART:20231105T080000
END:STANDARD
END:VTIMEZONE
BEGIN:VEVENT
DTSTART;TZID=America/Denver:20221004T080000
DTEND;TZID=America/Denver:20221006T170000
DTSTAMP:20260425T163725
CREATED:20220127T185122Z
LAST-MODIFIED:20220923T172015Z
UID:4010-1664870400-1665075600@vistageoscience.com
SUMMARY:2022 REMTec & Emerging Contaminants Summit
DESCRIPTION:NEW DATE: OCTOBER 4th to 6th\, 2022\nAs an exhibitor\, we are offering our contacts a 20% VIP discount that you can apply to your Attendee registration. \nThen\, please visit our booth to see the latest technologies in Advanced Site Characterization and Optimized In-Situ Remediation. \nSee John Fontana at Booth #126 to get a free Soil Classification Mouse Pad or Water Bottle! \nEmail info@vistageoscience.com and you will receive your discount code and instructions for registration.
URL:https://vistageoscience.com/event/2022-remtec-emerging-contaminants-summit/
LOCATION:The Westin Westminster\, 10600 Westminster Blvd\, Westminster\, CO\, 80020\, United States
ATTACH;FMTTYPE=image/jpeg:https://vistageoscience.com/wp-content/uploads/2022/01/REMTec-2022-Logo.jpg
END:VEVENT
BEGIN:VEVENT
DTSTART;TZID=America/Denver:20221011T080000
DTEND;TZID=America/Denver:20221013T170000
DTSTAMP:20260425T163725
CREATED:20220923T153953Z
LAST-MODIFIED:20220923T172117Z
UID:4577-1665475200-1665680400@vistageoscience.com
SUMMARY:SWANA Colorado 2022 Annual Conference
DESCRIPTION:Vista GeoScience will be exhibiting at this year’s SWANA Co. event. \nCheck out the conference program right here > 2022 SWANA Conference Program \n 
URL:https://vistageoscience.com/event/swana-colorado-2022-annual-conference/
LOCATION:Ameristar Casino Black Hawk\, 111 Richman St\, Black Hawk\, 80422\, United States
ATTACH;FMTTYPE=image/jpeg:https://vistageoscience.com/wp-content/uploads/2018/09/CO-SWANA-Logo.jpg
END:VEVENT
BEGIN:VEVENT
DTSTART;TZID=America/Denver:20221031T080000
DTEND;TZID=America/Denver:20221102T170000
DTSTAMP:20260425T163725
CREATED:20220923T154944Z
LAST-MODIFIED:20220923T172224Z
UID:4580-1667203200-1667408400@vistageoscience.com
SUMMARY:DCHWS Fall 2022 Symposium
DESCRIPTION:OCTOBER 31 – NOVEMBER 2\, 2022 \nGRAND HYATT – DENVER\, CO\nVista GeoScience will be Sponsoring and Exhibiting at this year’s Society of American Engineers (SAME) Denver Metro Post event. \nCheck out the agenda here > 2022 DCHWS Symposium Agenda \n 
URL:https://vistageoscience.com/event/dchws-fall-2022-symposium/
LOCATION:Grand Hyatt Denver Hotel\, 1750 Welton St.\, Denver\, CO\, 80202\, United States
ATTACH;FMTTYPE=image/jpeg:https://vistageoscience.com/wp-content/uploads/2022/09/DCHWS-West.jpg
END:VEVENT
END:VCALENDAR