BEGIN:VCALENDAR
VERSION:2.0
PRODID:-//Vista GeoScience - ECPv6.15.20//NONSGML v1.0//EN
CALSCALE:GREGORIAN
METHOD:PUBLISH
X-ORIGINAL-URL:https://vistageoscience.com
X-WR-CALDESC:Events for Vista GeoScience
REFRESH-INTERVAL;VALUE=DURATION:PT1H
X-Robots-Tag:noindex
X-PUBLISHED-TTL:PT1H
BEGIN:VTIMEZONE
TZID:America/Denver
BEGIN:DAYLIGHT
TZOFFSETFROM:-0700
TZOFFSETTO:-0600
TZNAME:MDT
DTSTART:20210314T090000
END:DAYLIGHT
BEGIN:STANDARD
TZOFFSETFROM:-0600
TZOFFSETTO:-0700
TZNAME:MST
DTSTART:20211107T080000
END:STANDARD
BEGIN:DAYLIGHT
TZOFFSETFROM:-0700
TZOFFSETTO:-0600
TZNAME:MDT
DTSTART:20220313T090000
END:DAYLIGHT
BEGIN:STANDARD
TZOFFSETFROM:-0600
TZOFFSETTO:-0700
TZNAME:MST
DTSTART:20221106T080000
END:STANDARD
BEGIN:DAYLIGHT
TZOFFSETFROM:-0700
TZOFFSETTO:-0600
TZNAME:MDT
DTSTART:20230312T090000
END:DAYLIGHT
BEGIN:STANDARD
TZOFFSETFROM:-0600
TZOFFSETTO:-0700
TZNAME:MST
DTSTART:20231105T080000
END:STANDARD
END:VTIMEZONE
BEGIN:VEVENT
DTSTART;TZID=America/Denver:20220809T080000
DTEND;TZID=America/Denver:20220809T170000
DTSTAMP:20260425T191532
CREATED:20220803T180644Z
LAST-MODIFIED:20220803T192525Z
UID:4569-1660032000-1660064400@vistageoscience.com
SUMMARY:CDLE Oil and Public Safety Outreach Event - Arvada
DESCRIPTION:The Division of Oil and Public Safety partners with regulated business owners and operators in Colorado to protect the public and our environment by ensuring the safe operation of amusement rides\, boilers\, explosives\, conveyance\, and underground damage prevention.\nOUTREACH 2022\nWe will be exhibiting at both events next week. \n\nArvada – Tuesday\, August 9\, 2022 The Arvada Center for the Arts and Humanities 6901 Wadsworth Blvd\, Arvada\, CO 80003\nGrand Junction – Thursday\, August 11\, 2022 Colorado Mesa University 1100 North Ave\, Grand Junction\, CO 81501
URL:https://vistageoscience.com/event/cdle-oil-and-public-safety-outreach-event/
LOCATION:CO
ATTACH;FMTTYPE=image/png:https://vistageoscience.com/wp-content/uploads/2021/03/CDLE-Logo-e1659556665105.png
END:VEVENT
BEGIN:VEVENT
DTSTART;TZID=America/Denver:20220811T080000
DTEND;TZID=America/Denver:20220811T170000
DTSTAMP:20260425T191532
CREATED:20220803T192426Z
LAST-MODIFIED:20220803T192509Z
UID:4571-1660204800-1660237200@vistageoscience.com
SUMMARY:CDLE Oil and Public Safety Outreach Event - Grand Junction
DESCRIPTION:The Division of Oil and Public Safety partners with regulated business owners and operators in Colorado to protect the public and our environment by ensuring the safe operation of amusement rides\, boilers\, explosives\, conveyance\, and underground damage prevention.\nOUTREACH 2022\nWe will be exhibiting at both events next week. \n\nArvada – Tuesday\, August 9\, 2022 The Arvada Center for the Arts and Humanities 6901 Wadsworth Blvd\, Arvada\, CO 80003\nGrand Junction – Thursday\, August 11\, 2022 Colorado Mesa University 1100 North Ave\, Grand Junction\, CO 81501
URL:https://vistageoscience.com/event/cdle-oil-and-public-safety-outreach-event-copy/
LOCATION:CO
ATTACH;FMTTYPE=image/png:https://vistageoscience.com/wp-content/uploads/2021/03/CDLE-Logo-e1659556665105.png
END:VEVENT
END:VCALENDAR