BEGIN:VCALENDAR
VERSION:2.0
PRODID:-//Vista GeoScience - ECPv6.15.20//NONSGML v1.0//EN
CALSCALE:GREGORIAN
METHOD:PUBLISH
X-ORIGINAL-URL:https://vistageoscience.com
X-WR-CALDESC:Events for Vista GeoScience
REFRESH-INTERVAL;VALUE=DURATION:PT1H
X-Robots-Tag:noindex
X-PUBLISHED-TTL:PT1H
BEGIN:VTIMEZONE
TZID:America/Denver
BEGIN:DAYLIGHT
TZOFFSETFROM:-0700
TZOFFSETTO:-0600
TZNAME:MDT
DTSTART:20200308T090000
END:DAYLIGHT
BEGIN:STANDARD
TZOFFSETFROM:-0600
TZOFFSETTO:-0700
TZNAME:MST
DTSTART:20201101T080000
END:STANDARD
BEGIN:DAYLIGHT
TZOFFSETFROM:-0700
TZOFFSETTO:-0600
TZNAME:MDT
DTSTART:20210314T090000
END:DAYLIGHT
BEGIN:STANDARD
TZOFFSETFROM:-0600
TZOFFSETTO:-0700
TZNAME:MST
DTSTART:20211107T080000
END:STANDARD
BEGIN:DAYLIGHT
TZOFFSETFROM:-0700
TZOFFSETTO:-0600
TZNAME:MDT
DTSTART:20220313T090000
END:DAYLIGHT
BEGIN:STANDARD
TZOFFSETFROM:-0600
TZOFFSETTO:-0700
TZNAME:MST
DTSTART:20221106T080000
END:STANDARD
BEGIN:DAYLIGHT
TZOFFSETFROM:-0700
TZOFFSETTO:-0600
TZNAME:MDT
DTSTART:20230312T090000
END:DAYLIGHT
BEGIN:STANDARD
TZOFFSETFROM:-0600
TZOFFSETTO:-0700
TZNAME:MST
DTSTART:20231105T080000
END:STANDARD
END:VTIMEZONE
BEGIN:VEVENT
DTSTART;TZID=America/Denver:20220510T080000
DTEND;TZID=America/Denver:20220512T170000
DTSTAMP:20260423T181643
CREATED:20220127T202422Z
LAST-MODIFIED:20220131T164600Z
UID:4027-1652169600-1652374800@vistageoscience.com
SUMMARY:2022 JOINT Engineer Training Conference & Expo
DESCRIPTION:Vista will be exhibiting at this event.\nVisit us at booth 220!\nSAME’s 2022 Joint Engineer Training Conference & Expo is headed to Aurora\, Colo.\, May 10-12. Join your colleagues from across the A/E/C industry and joint engineer community for three days of education\, training and networking opportunities. And as SAME’s Annual Meeting\, JETC offers numerous awards and recognition activities to celebrate the contributions and excellence of the Society’s Posts and members in supporting the SAME mission “to lead collaborative efforts to identify and resolve national security infrastructure-related challenges.”
URL:https://vistageoscience.com/event/2022-joint-engineer-training-conference-expo/
ATTACH;FMTTYPE=image/jpeg:https://vistageoscience.com/wp-content/uploads/2022/01/JETC-Expo-Logo.jpg
END:VEVENT
BEGIN:VEVENT
DTSTART;TZID=America/Denver:20220510T080000
DTEND;TZID=America/Denver:20220511T170000
DTSTAMP:20260423T181643
CREATED:20220127T203712Z
LAST-MODIFIED:20220131T164838Z
UID:4030-1652169600-1652288400@vistageoscience.com
SUMMARY:Environmental Trade Fair Conference
DESCRIPTION:Vista will be exhibiting at this event.\nCome visit booth 941 and learn more about the most updated\ntech in the industry and get your free Soil Classification mousepad or water bottle.\nAfter a two year pause\, the TCEQ’s Trade Fair returns to the Austin Convention Center. During the two-day ETFC\, Agency staff will lead over 100 courses and discussions. Topics include air and water permitting\, oil and gas\, industrial and solid waste management\, compliance and enforcement\, and remediation programs.
URL:https://vistageoscience.com/event/environmental-trade-fair-conference/
ATTACH;FMTTYPE=image/jpeg:https://vistageoscience.com/wp-content/uploads/2022/01/TCEQ-ETFC-2022.jpg
END:VEVENT
BEGIN:VEVENT
DTSTART;TZID=America/Denver:20220428T080000
DTEND;TZID=America/Denver:20220428T170000
DTSTAMP:20260423T181643
CREATED:20220127T201209Z
LAST-MODIFIED:20220301T160846Z
UID:4023-1651132800-1651165200@vistageoscience.com
SUMMARY:Denver Emerging Contaminants Workshop
DESCRIPTION:Come check out the “Emerging Contaminants” EnviroWorkshop that is focused on several CECs (contaminants of emerging concern) and their regulations\, but also some of the best practices for treating them in soil and groundwater. \nVista will be exhibiting at this event. \nThis is a business casual event and it’s great networking for environmental professionals. Lunch is provided by the EnviroWorkshop sponsors and you will also receive a 4.0 PDH certificate at NO CHARGE ($250 value). \nSee registration link below.
URL:https://vistageoscience.com/event/denver-emerging-contaminants-workshop/
ATTACH;FMTTYPE=image/jpeg:https://vistageoscience.com/wp-content/uploads/2020/01/Enviroworkshop-002-e1588366377899.jpg
END:VEVENT
BEGIN:VEVENT
DTSTART;TZID=America/Denver:20220426T080000
DTEND;TZID=America/Denver:20220426T170000
DTSTAMP:20260423T181643
CREATED:20220127T194211Z
LAST-MODIFIED:20220301T160912Z
UID:4020-1650960000-1650992400@vistageoscience.com
SUMMARY:The Remediation Workshop in Salt Lake City\, UT
DESCRIPTION:Come check out the “Emerging Contaminants” EnviroWorkshop that is focused on several CECs (contaminants of emerging concern) and their regulations\, but also some of the best practices for treating them in soil and groundwater. \nVista will be exhibiting at this event. \nThis is a business casual event and it’s great networking for environmental professionals. Lunch is provided by the EnviroWorkshop sponsors and you will also receive a 4.0 PDH certificate at NO CHARGE ($250 value). \nSee registration link below.
URL:https://vistageoscience.com/event/the-remediation-workshop-in-salt-lake-city-ut/
LOCATION:Hilton Garden Inn Salt Lake City Downtown\, 250 W 600 S\, Salt Lake City\, CO\, 84101\, United States
ATTACH;FMTTYPE=image/jpeg:https://vistageoscience.com/wp-content/uploads/2020/01/Enviroworkshop-002-e1588366377899.jpg
END:VEVENT
BEGIN:VEVENT
DTSTART;TZID=America/Denver:20220412T080000
DTEND;TZID=America/Denver:20220414T170000
DTSTAMP:20260423T181643
CREATED:20220127T192707Z
LAST-MODIFIED:20220127T201608Z
UID:4016-1649750400-1649955600@vistageoscience.com
SUMMARY:56th Annual Shallow Exploration Drillers Clinic
DESCRIPTION:The purpose of each meeting is to present information that will assist all those engaged in exploration drilling in keeping abreast with new techniques and reviewing or perhaps even hearing for the first time old tried and true methods.
URL:https://vistageoscience.com/event/56th-annual-shallow-exploration-drillers-clinic/
LOCATION:Denver Marriot West\, 1717 Denver West Blvd\, Golden\, CO\, 80401\, United States
ATTACH;FMTTYPE=image/jpeg:https://vistageoscience.com/wp-content/uploads/2022/01/SEDC-2022-Logo.jpg
END:VEVENT
BEGIN:VEVENT
DTSTART;TZID=America/Denver:20220208T080000
DTEND;TZID=America/Denver:20220209T170000
DTSTAMP:20260423T181643
CREATED:20220127T185437Z
LAST-MODIFIED:20220311T183705Z
UID:4001-1644307200-1644426000@vistageoscience.com
SUMMARY:Consultants Day 2022
DESCRIPTION:Program Overview\nJohn Fontana will be giving a presentation titled\, \n“Optimized In-Situ Injection Technologies – An Overview of the Guidance.” \nTo view event click here \n\nThe goal of the Petroleum Tank Cleanup Section is to protect human health and the environment from petroleum and hazardous substance releases from storage tank systems\, both underground and above ground. Meeting this goal requires definition of the extent and magnitude of the contamination and implementation of the necessary corrective action. \nPetroleum Tank Cleanup Section Environmental Scientists direct and oversee cleanup of petroleum releases. They are available as technical resources for tank owners and operators\, local government officials\, and the public to help respond to questions or concerns about tank leaks.
URL:https://vistageoscience.com/event/consultants-day-2022/
LOCATION:Delta Hotels by Marriot Helena Colonial\, 2301 Colonial Dr.\, Helena\, MT\, 59601\, United States
ATTACH;FMTTYPE=image/png:https://vistageoscience.com/wp-content/uploads/2022/01/2022.02-Consultants-Day-MT-Logo.png
END:VEVENT
BEGIN:VEVENT
DTSTART;TZID=America/Denver:20211104T080000
DTEND;TZID=America/Denver:20211104T170000
DTSTAMP:20260423T181643
CREATED:20211008T152540Z
LAST-MODIFIED:20220311T183827Z
UID:3935-1636012800-1636045200@vistageoscience.com
SUMMARY:Remediation Workshop - Phoenix\, AZ
DESCRIPTION:This workshop covers a range of topics from industry regulations to new remediation technology\, and many others.\nThere is no charge for you to attend. A hot lunch is provided and you’ll also receive a certificate for 4 PDH credits. \nNote: Even though it’s a FREE workshop\, you must register online so that we know how much food to order. Feel free to forward this on to others in your office and I’ll see you at the workshop! \n\n\n\n\n\n\n\n\nFull Agenda:\n\n\n\n\n\n\n\n8:00 – Registration\, light breakfast\, and networking with exhibitors \n8:30 – Welcome from Jay Zandell\, Overley’s \n8:45 – Voluntary Remediation Program Perspective on the \nImportance of the Field Scientist – Daniel Sola\, AZ DEQ & Scott Green\, AZ DEQ \n9:45 – A Single Solution for a Variety of Contaminants – Ingrid Patman\, DeepEarth Technologies \n10:20 – BREAK \n10:35 – Thermal Remediation for Treatment of PFAS Source Areas – Steffen Griepke\, TerraTherm \n11:20 – ADEQ’s Use of the Triad Approach for PFAS Assessment and Cleanup – Dr. Matt Nater\, AZ DEQ \n12:00 – LUNCH BREAK \n12:30 – Using the Ultra-Violet Optical Image/Hydraulic Profiler Tool (OiHPT-UV) to Create \n3D Conceptual Site Models (CSM) of Complex LNAPL Migration – John Fontana\, Vista GeoScience \n1:05 – Biden’s Environmental Agenda\, So Far – Patrick Paul\, Snell & Wilmer \n1:45 – Final Words from Jay Zandell\, Overley’s \n2-4:00pm – After-hours networking and Axe Throwing* \n*to find out more about this exciting networking event\, please contact us at info@vistageoscience.com or the wonderful staff at EnviroWorks
URL:https://vistageoscience.com/event/remediation-workshop-phoenix-az/
LOCATION:Lumberjaxes Axe Throwing\, 3105 S. Fair Lane #100\, Tempe\, AZ\, 85282\, United States
ATTACH;FMTTYPE=image/jpeg:https://vistageoscience.com/wp-content/uploads/2021/04/EnviroWorkshops-Logo.jpg
END:VEVENT
BEGIN:VEVENT
DTSTART;TZID=America/Denver:20211101T080000
DTEND;TZID=America/Denver:20211103T170000
DTSTAMP:20260423T181643
CREATED:20210917T144919Z
LAST-MODIFIED:20220311T183903Z
UID:3894-1635753600-1635958800@vistageoscience.com
SUMMARY:Colorado SWANA - 2021 Annual Conference
DESCRIPTION:From solid waste safety to landfill design and the newest waste management technologies out there\, this chapter brings this year’s conference to Boulder\, CO. Breathtaking views of the Flatirons within close proximity to the University of Colorado Boulder are just some of the reasons that the 2021 Colorado Rocky Mountain SWANA Annual Conference will be in Boulder.  November 1 – 3\, 2021.\nAt this time Mayor Sam Weaver will attend\, welcoming SWANA to Boulder. Then two days of sessions and exhibits. Vista will be one of those exhibitors so we hope you can join us there. \nEmbassy Suites by Hilton Boulder\n2601 Canyon Boulevard\nBoulder\, CO 80302 \nConference Agenda
URL:https://vistageoscience.com/event/colorado-swana-2021-annual-conference/
LOCATION:Embassy Suites by Hilton Boulder\, 2601 Canyon Blvd\, Boulder\, 80302\, United States
ATTACH;FMTTYPE=image/jpeg:https://vistageoscience.com/wp-content/uploads/2018/09/CO-SWANA-Logo.jpg
END:VEVENT
BEGIN:VEVENT
DTSTART;TZID=America/Denver:20211021T103000
DTEND;TZID=America/Denver:20211021T120000
DTSTAMP:20260423T181643
CREATED:20211019T174721Z
LAST-MODIFIED:20220311T183939Z
UID:3953-1634812200-1634817600@vistageoscience.com
SUMMARY:IPEConnect - Petroleum Environmental Issues & Solutions
DESCRIPTION:IPEConnect is a series of virtual\, instructor-led presentations for petroleum environmental\nprofessionals in an engaging format with high quality presentations\, with discussion/Q&A\, that\nare focused on the variety of environmental issues and solutions in all aspects of today’s industry. \nSpend just 1 ½ hours with us virtually on Oct. 21\,  Nov. 4 & Nov. 18 – to engage with others\, \nto boost your knowledge\, & to invest in your professional development. \n \n \n \nCLICK HERE for more information about the program and to register. \nBEST DEAL: $125 per person for all 3 Sessions\nIndividual  Session Registration is $55/person/ session. \n IPEConnect… an opportunity to stay CONNECTED. \nPlease share this announcement with your colleagues and encourage them to participate with you. \nSponsored by: \nIPEC Conference Committee\nThe University of Tulsa – CESE \n800 S. Tucker Drive\, Tulsa\, OK 74104\n918-631-3088 | cese@utulsa.edu | www.cese.utulsa.edu
URL:https://vistageoscience.com/event/ipeconnect-petroleum-environmental-issues-solutions/
LOCATION:Virtual Event
ATTACH;FMTTYPE=image/jpeg:https://vistageoscience.com/wp-content/uploads/2021/10/IPEC-Logo.jpg
END:VEVENT
BEGIN:VEVENT
DTSTART;TZID=America/Denver:20211013T170000
DTEND;TZID=America/Denver:20211013T213000
DTSTAMP:20260423T181643
CREATED:20211008T153338Z
LAST-MODIFIED:20240318T155948Z
UID:3939-1634144400-1634160600@vistageoscience.com
SUMMARY:RMAEP’S Enviro-October Fest at Breckenridge Brewery Littleton
DESCRIPTION:Vista is sponsoring RMAEP’s Annual EnviroFest 2021!\nCome check it out\, Wednesday\, October 13 from 5-9:30pm.\nLots of fun to be had.\nBRECKENRIDGE BREWERY LITTLETON\n2920 Brewery Ln\nLittleton\, CO 80120 \nRMAEP is getting together to network and raise money for our\nStudent Scholarship fund that benefits brilliant college students working towards a career in this industry.
URL:https://vistageoscience.com/event/rmaeps-enviro-october-fest-at-breckenridge-brewery-littleton/
LOCATION:Breckenridge Brewery\, 2920 Brewery Ln\, Littleton\, CO\, 80120\, United States
ATTACH;FMTTYPE=image/jpeg:https://vistageoscience.com/wp-content/uploads/2018/05/RMAEP.jpg
END:VEVENT
BEGIN:VEVENT
DTSTART;TZID=America/Denver:20210926T080000
DTEND;TZID=America/Denver:20211001T170000
DTSTAMP:20260423T181643
CREATED:20210920T184550Z
LAST-MODIFIED:20220311T184044Z
UID:3922-1632643200-1633107600@vistageoscience.com
SUMMARY:AAPG & SEG Annual Convention
DESCRIPTION:About IMAGE\nThe Society of Exploration Geophysicists (SEG)\, the American Association of Petroleum Geologists (AAPG) and in conjunction with the Society for Sedimentary Geology (SEPM) are excited to host\, IMAGE 2021 – the International Meeting for Applied Geoscience & Energy. The three societies agreed earlier this year to hold this integrated annual meeting over the next five years\, the first of which will be a hybrid event held from 26 September to 1 October 2021\, at the Colorado Convention Center in Denver\, Colorado and online. \nAs global leaders in disseminating high-quality applied-geoscience knowledge and data\, SEG\, AAPG\, and SEPM have joined forces to create this powerhouse event bringing together multiple disciplines of the geosciences sector. IMAGE ’21 combines all the great elements from each society’s previous annual meetings under one roof to offer a better experience and increased value for the industry. \nIMAGE ’21 will welcome speakers\, exhibitors\, and attendees to participate in-person or online\, or both. The comprehensive technical program will feature more than 1\,000 presentations\, nearly 200 sessions\, 14 post-convention workshops\, 10 special sessions\, five field trips\, countless networking opportunities\, and a joint exhibition showcasing the latest geoscience products and technologies. One registration will give delegates access to the core technical sessions\, the exhibition\, and several other events. \nVista GeoScience are Silver Sponsors at this event.  \nDon’t miss the ultimate learning and networking event for applied geoscience and energy.
URL:https://vistageoscience.com/event/aapg-seg-annual-convention/
LOCATION:Denver Convention Center\, 700 14th St\, Denver\, 80202\, United States
ATTACH;FMTTYPE=image/jpeg:https://vistageoscience.com/wp-content/uploads/2021/09/Logo-AAPG-2021.jpg
END:VEVENT
END:VCALENDAR