BEGIN:VCALENDAR
VERSION:2.0
PRODID:-//Vista GeoScience - ECPv6.15.20//NONSGML v1.0//EN
CALSCALE:GREGORIAN
METHOD:PUBLISH
X-WR-CALNAME:Vista GeoScience
X-ORIGINAL-URL:https://vistageoscience.com
X-WR-CALDESC:Events for Vista GeoScience
REFRESH-INTERVAL;VALUE=DURATION:PT1H
X-Robots-Tag:noindex
X-PUBLISHED-TTL:PT1H
BEGIN:VTIMEZONE
TZID:America/Denver
BEGIN:DAYLIGHT
TZOFFSETFROM:-0700
TZOFFSETTO:-0600
TZNAME:MDT
DTSTART:20240310T090000
END:DAYLIGHT
BEGIN:STANDARD
TZOFFSETFROM:-0600
TZOFFSETTO:-0700
TZNAME:MST
DTSTART:20241103T080000
END:STANDARD
BEGIN:DAYLIGHT
TZOFFSETFROM:-0700
TZOFFSETTO:-0600
TZNAME:MDT
DTSTART:20250309T090000
END:DAYLIGHT
BEGIN:STANDARD
TZOFFSETFROM:-0600
TZOFFSETTO:-0700
TZNAME:MST
DTSTART:20251102T080000
END:STANDARD
BEGIN:DAYLIGHT
TZOFFSETFROM:-0700
TZOFFSETTO:-0600
TZNAME:MDT
DTSTART:20260308T090000
END:DAYLIGHT
BEGIN:STANDARD
TZOFFSETFROM:-0600
TZOFFSETTO:-0700
TZNAME:MST
DTSTART:20261101T080000
END:STANDARD
END:VTIMEZONE
BEGIN:VEVENT
DTSTART;TZID=America/Denver:20251022T113000
DTEND;TZID=America/Denver:20251022T123000
DTSTAMP:20260423T233600
CREATED:20250818T170148Z
LAST-MODIFIED:20250818T183545Z
UID:5220-1761132600-1761136200@vistageoscience.com
SUMMARY:Vista Guest Webinar - Evolving the Playbook: Combining ISCO\, Sorption\, and Biodegradation for Petroleum Site Success
DESCRIPTION:Presenter: Todd Herrington\, Director of Product Management\, REGENESIS \nPetroleum-impacted sites (e.g.\, UST and oil/gas facilities\, etc.) often present complex remediation challenges due to residual mass\, back diffusion\, and fluctuating groundwater conditions. In addition\, the path to closure for these sites has evolved and at times\, requires integrated remediation strategies. While in situ chemical oxidation (ISCO) remains a powerful tool for rapid mass reduction\, it’s increasingly clear that long-term remediation success may also depends on effective sorption and enhanced biodegradation. In this webinar\, Regenesis will outline a field-proven strategy that integrates\, as needed\, oxidation\, sorption\, or biostimulation-based treatment that is tailored to meet cleanup goals at complex petroleum sites. Drawing on years of collaboration with Vista GeoScience and other consulting firms\, we’ll demonstrate how products like RegenOx®\, PersulfOx®\, PetroFix® and ORC Advanced® are used in combination to deliver consistent performance\, mitigate rebound\, and accelerate regulatory closure. We’ll also explore how PetroFix\, a colloidal activated carbon\, is emerging as a leading treatment for both polishing and primary remediation. By combining immediate adsorption with sustained biodegradation support and enabling visual confirmation of distribution via its dark color\, PetroFix enhances both treatment confidence and long-term results. \nKey Takeaways:\n• Why sorption and biodegradation are essential mechanisms for achieving closure at petroleum sites—not just secondary steps\n• How to integrate ISCO (RegenOx\, PersulfOx) with electron acceptors (ORC Advanced) and colloidal carbon (PetroFix)\n• When to use PetroFix as a standalone remedy versus a follow-up to oxidation\n• Real-world lessons from OPS and private sites in collaboration with Vista GeoScience\n• Practical methods to validate injection success using PetroFix’s visual presence in groundwater or soil cores
URL:https://vistageoscience.com/event/vista-guest-webinar-evolving-the-playbook-combining-isco-sorption-and-biodegradation-for-petroleum-site-success/
CATEGORIES:Webinars
ATTACH;FMTTYPE=image/jpeg:https://vistageoscience.com/wp-content/uploads/2025/08/Mixing-product-scaled.jpg
END:VEVENT
END:VCALENDAR